
BEGIN:VCALENDAR
VERSION:2.0
PRODID:-//ECO Canada - ECPv6.15.20//NONSGML v1.0//EN
CALSCALE:GREGORIAN
METHOD:PUBLISH
X-ORIGINAL-URL:https://eco.ca
X-WR-CALDESC:Events for ECO Canada
REFRESH-INTERVAL;VALUE=DURATION:PT1H
X-Robots-Tag:noindex
X-PUBLISHED-TTL:PT1H
BEGIN:VTIMEZONE
TZID:America/Edmonton
BEGIN:DAYLIGHT
TZOFFSETFROM:-0700
TZOFFSETTO:-0600
TZNAME:MDT
DTSTART:20220313T090000
END:DAYLIGHT
BEGIN:STANDARD
TZOFFSETFROM:-0600
TZOFFSETTO:-0700
TZNAME:MST
DTSTART:20221106T080000
END:STANDARD
BEGIN:DAYLIGHT
TZOFFSETFROM:-0700
TZOFFSETTO:-0600
TZNAME:MDT
DTSTART:20230312T090000
END:DAYLIGHT
BEGIN:STANDARD
TZOFFSETFROM:-0600
TZOFFSETTO:-0700
TZNAME:MST
DTSTART:20231105T080000
END:STANDARD
BEGIN:DAYLIGHT
TZOFFSETFROM:-0700
TZOFFSETTO:-0600
TZNAME:MDT
DTSTART:20240310T090000
END:DAYLIGHT
BEGIN:STANDARD
TZOFFSETFROM:-0600
TZOFFSETTO:-0700
TZNAME:MST
DTSTART:20241103T080000
END:STANDARD
END:VTIMEZONE
BEGIN:VEVENT
DTSTART;VALUE=DATE:20230612
DTEND;VALUE=DATE:20230615
DTSTAMP:20260424T061402
CREATED:20230606T144736Z
LAST-MODIFIED:20230606T144736Z
UID:10000044-1686528000-1686787199@eco.ca
SUMMARY:H2O Conference 2023
DESCRIPTION:Join us at the H2O: Home to Overseas Conference\, from Monday\, June 12 to Wednesday\, June 14\, 2023\, at the Halifax Convention Centre. The Ocean Technology Council of Nova Scotia proudly brings the conference to you in collaboration with the Government of Canada\, the Province of Nova Scotia\, and the Centre for Ocean Ventures and Entrepreneurship.
URL:https://eco.ca/event/h2o-conference-2023/
LOCATION:Halifax Convention Centre\, 1650 Argyle St\, Halifax\, Nova Scotia\, B3J 0E6\, Canada
CATEGORIES:Conference that we are attending
ATTACH;FMTTYPE=image/png:https://eco.ca/wp-content/uploads/2025/08/ECO-thumbnail-for-links-1-scaled.png
END:VEVENT
BEGIN:VEVENT
DTSTART;VALUE=DATE:20230612
DTEND;VALUE=DATE:20230615
DTSTAMP:20260424T061402
CREATED:20230606T144736Z
LAST-MODIFIED:20230606T144736Z
UID:10000253-1686528000-1686787199@eco.ca
SUMMARY:H2O Conference 2023
DESCRIPTION:Join us at the H2O: Home to Overseas Conference\, from Monday\, June 12 to Wednesday\, June 14\, 2023\, at the Halifax Convention Centre. The Ocean Technology Council of Nova Scotia proudly brings the conference to you in collaboration with the Government of Canada\, the Province of Nova Scotia\, and the Centre for Ocean Ventures and Entrepreneurship.
URL:https://eco.ca/event/h2o-conference-2023-2/
LOCATION:Halifax Convention Centre\, 1650 Argyle St\, Halifax\, Nova Scotia\, B3J 0E6\, Canada
CATEGORIES:Conference that we are attending
ATTACH;FMTTYPE=image/png:https://eco.ca/wp-content/uploads/2025/08/ECO-thumbnail-for-links-1-scaled.png
END:VEVENT
BEGIN:VEVENT
DTSTART;TZID=America/Edmonton:20230614T110000
DTEND;TZID=America/Edmonton:20230614T123000
DTSTAMP:20260424T061402
CREATED:20230504T175650Z
LAST-MODIFIED:20230504T175650Z
UID:10000034-1686740400-1686745800@eco.ca
SUMMARY:Winning the Proposal: Strategies to Write a Successful Grant
DESCRIPTION:Effective grant writing is more than filling out an application form. Our workshop will teach you how to identify suitable funders\, organize for efficiency and effectiveness\, and create a compelling project rationale and plan for your following grant proposal.
URL:https://eco.ca/event/winning-the-proposal-strategies-to-write-a-successful-grant/2023-06-14/
LOCATION:Online
CATEGORIES:Workshop
ATTACH;FMTTYPE=image/png:https://eco.ca/wp-content/uploads/2025/08/ECO-thumbnail-for-links-1-scaled.png
END:VEVENT
BEGIN:VEVENT
DTSTART;TZID=America/Edmonton:20230614T110000
DTEND;TZID=America/Edmonton:20230614T123000
DTSTAMP:20260424T061402
CREATED:20230504T175650Z
LAST-MODIFIED:20230504T175650Z
UID:10000242-1686740400-1686745800@eco.ca
SUMMARY:Winning the Proposal: Strategies to Write a Successful Grant
DESCRIPTION:Effective grant writing is more than filling out an application form. Our workshop will teach you how to identify suitable funders\, organize for efficiency and effectiveness\, and create a compelling project rationale and plan for your following grant proposal.
URL:https://eco.ca/event/winning-the-proposal-strategies-to-write-a-successful-grant-2/2023-06-14/
LOCATION:Online
CATEGORIES:Workshop
ATTACH;FMTTYPE=image/png:https://eco.ca/wp-content/uploads/2025/08/ECO-thumbnail-for-links-1-scaled.png
END:VEVENT
END:VCALENDAR