
BEGIN:VCALENDAR
VERSION:2.0
PRODID:-//ECO Canada - ECPv6.15.20//NONSGML v1.0//EN
CALSCALE:GREGORIAN
METHOD:PUBLISH
X-ORIGINAL-URL:https://eco.ca
X-WR-CALDESC:Events for ECO Canada
REFRESH-INTERVAL;VALUE=DURATION:PT1H
X-Robots-Tag:noindex
X-PUBLISHED-TTL:PT1H
BEGIN:VTIMEZONE
TZID:America/Winnipeg
BEGIN:DAYLIGHT
TZOFFSETFROM:-0600
TZOFFSETTO:-0500
TZNAME:CDT
DTSTART:20220313T080000
END:DAYLIGHT
BEGIN:STANDARD
TZOFFSETFROM:-0500
TZOFFSETTO:-0600
TZNAME:CST
DTSTART:20221106T070000
END:STANDARD
BEGIN:DAYLIGHT
TZOFFSETFROM:-0600
TZOFFSETTO:-0500
TZNAME:CDT
DTSTART:20230312T080000
END:DAYLIGHT
BEGIN:STANDARD
TZOFFSETFROM:-0500
TZOFFSETTO:-0600
TZNAME:CST
DTSTART:20231105T070000
END:STANDARD
BEGIN:DAYLIGHT
TZOFFSETFROM:-0600
TZOFFSETTO:-0500
TZNAME:CDT
DTSTART:20240310T080000
END:DAYLIGHT
BEGIN:STANDARD
TZOFFSETFROM:-0500
TZOFFSETTO:-0600
TZNAME:CST
DTSTART:20241103T070000
END:STANDARD
END:VTIMEZONE
BEGIN:VTIMEZONE
TZID:America/Regina
BEGIN:STANDARD
TZOFFSETFROM:-0600
TZOFFSETTO:-0600
TZNAME:CST
DTSTART:20220101T000000
END:STANDARD
END:VTIMEZONE
BEGIN:VEVENT
DTSTART;TZID=America/Winnipeg:20230615T170000
DTEND;TZID=America/Winnipeg:20230715T200000
DTSTAMP:20260424T061442
CREATED:20230510T202501Z
LAST-MODIFIED:20230510T202501Z
UID:10000245-1686848400-1689451200@eco.ca
SUMMARY:Environmental Professionals Meet-up: Winnipeg
DESCRIPTION:Join ECO Canada’s FREE Environmental Professional Meet Up on June 15\, 2023\, at the Saddlery on Market in Winnipeg. Connect with fellow environmental professionals\, enjoy a great venue\, food\, and networking. Register to secure your spot at this unique event.
URL:https://eco.ca/event/environmental-professionals-meet-up-winnipeg-3/
LOCATION:Saddlery on Market\, 114 Market Ave\, Winnipeg\, Manitoba\, R3B 0P4\, Canada
CATEGORIES:EP® Meet-up
ATTACH;FMTTYPE=image/png:https://eco.ca/wp-content/uploads/2025/08/ECO-thumbnail-for-links-1-scaled.png
END:VEVENT
BEGIN:VEVENT
DTSTART;TZID=America/Regina:20230627T173000
DTEND;TZID=America/Regina:20230627T203000
DTSTAMP:20260424T061442
CREATED:20230516T145012Z
LAST-MODIFIED:20230516T145012Z
UID:10000039-1687887000-1687897800@eco.ca
SUMMARY:Environmental Professional Information Session Yorkton\, SK
DESCRIPTION:Join us for an Environmental Professional Information Session on Tuesday\, June 27th\, 2023 We’ll be able to learn how an EP designation can help unlock your environmental career and open new doors in your professional journey.
URL:https://eco.ca/event/environmental-professional-information-session-yorkton-sk/
LOCATION:Back Forty Brewery\, 54 Darlington Street West Yorkton\, Yorkton\, Saskatchewan\, S3N 3S3\, Canada
CATEGORIES:EP® Info Session
ATTACH;FMTTYPE=image/png:https://eco.ca/wp-content/uploads/2025/08/ECO-thumbnail-for-links-1-scaled.png
END:VEVENT
BEGIN:VEVENT
DTSTART;TZID=America/Regina:20230627T173000
DTEND;TZID=America/Regina:20230627T203000
DTSTAMP:20260424T061442
CREATED:20230516T145012Z
LAST-MODIFIED:20230516T145012Z
UID:10000248-1687887000-1687897800@eco.ca
SUMMARY:Environmental Professional Information Session Yorkton\, SK
DESCRIPTION:Join us for an Environmental Professional Information Session on Tuesday\, June 27th\, 2023 We’ll be able to learn how an EP designation can help unlock your environmental career and open new doors in your professional journey.
URL:https://eco.ca/event/environmental-professional-information-session-yorkton-sk-2/
LOCATION:Back Forty Brewery\, 54 Darlington Street West Yorkton\, Yorkton\, Saskatchewan\, S3N 3S3\, Canada
CATEGORIES:EP® Info Session
ATTACH;FMTTYPE=image/png:https://eco.ca/wp-content/uploads/2025/08/ECO-thumbnail-for-links-1-scaled.png
END:VEVENT
END:VCALENDAR