
BEGIN:VCALENDAR
VERSION:2.0
PRODID:-//ECO Canada - ECPv6.15.20//NONSGML v1.0//EN
CALSCALE:GREGORIAN
METHOD:PUBLISH
X-WR-CALNAME:ECO Canada
X-ORIGINAL-URL:https://eco.ca
X-WR-CALDESC:Events for ECO Canada
REFRESH-INTERVAL;VALUE=DURATION:PT1H
X-Robots-Tag:noindex
X-PUBLISHED-TTL:PT1H
BEGIN:VTIMEZONE
TZID:America/Edmonton
BEGIN:DAYLIGHT
TZOFFSETFROM:-0700
TZOFFSETTO:-0600
TZNAME:MDT
DTSTART:20230312T090000
END:DAYLIGHT
BEGIN:STANDARD
TZOFFSETFROM:-0600
TZOFFSETTO:-0700
TZNAME:MST
DTSTART:20231105T080000
END:STANDARD
BEGIN:DAYLIGHT
TZOFFSETFROM:-0700
TZOFFSETTO:-0600
TZNAME:MDT
DTSTART:20240310T090000
END:DAYLIGHT
BEGIN:STANDARD
TZOFFSETFROM:-0600
TZOFFSETTO:-0700
TZNAME:MST
DTSTART:20241103T080000
END:STANDARD
BEGIN:DAYLIGHT
TZOFFSETFROM:-0700
TZOFFSETTO:-0600
TZNAME:MDT
DTSTART:20250309T090000
END:DAYLIGHT
BEGIN:STANDARD
TZOFFSETFROM:-0600
TZOFFSETTO:-0700
TZNAME:MST
DTSTART:20251102T080000
END:STANDARD
END:VTIMEZONE
BEGIN:VEVENT
DTSTART;TZID=America/Edmonton:20240305T110000
DTEND;TZID=America/Edmonton:20240305T123000
DTSTAMP:20260425T101337
CREATED:20240108T213616Z
LAST-MODIFIED:20240108T213616Z
UID:10000099-1709636400-1709641800@eco.ca
SUMMARY:From Good to Great: a Reader-Centric Approach to Clear Technical Writing | Workshop
DESCRIPTION:Crafting articulate technical documents is crucial for fostering clarity among internal and external stakeholders within the professional sphere. Throughout the four sessions\, this course provides a platform for acquiring insights into reader-centric principles\, helping you become a more effective writer. \nThis workshop begins on March 5\, 2024.
URL:https://eco.ca/event/from-good-to-great-a-reader-centric-approach-to-clear-technical-writing-workshop/2024-03-05/
LOCATION:Online
CATEGORIES:Workshop
ATTACH;FMTTYPE=image/jpeg:https://eco.ca/wp-content/uploads/2021/08/daniel-thomas-gWlBxOAgXgQ-unsplash-scaled.jpg
END:VEVENT
BEGIN:VEVENT
DTSTART;TZID=America/Edmonton:20240305T110000
DTEND;TZID=America/Edmonton:20240305T123000
DTSTAMP:20260425T101337
CREATED:20240108T213616Z
LAST-MODIFIED:20240108T213616Z
UID:10000300-1709636400-1709641800@eco.ca
SUMMARY:From Good to Great: a Reader-Centric Approach to Clear Technical Writing | Workshop
DESCRIPTION:Crafting articulate technical documents is crucial for fostering clarity among internal and external stakeholders within the professional sphere. Throughout the four sessions\, this course provides a platform for acquiring insights into reader-centric principles\, helping you become a more effective writer. \nThis workshop begins on March 5\, 2024.
URL:https://eco.ca/event/from-good-to-great-a-reader-centric-approach-to-clear-technical-writing-workshop-2/2024-03-05/
LOCATION:Online
CATEGORIES:Workshop
ATTACH;FMTTYPE=image/jpeg:https://eco.ca/wp-content/uploads/2021/08/daniel-thomas-gWlBxOAgXgQ-unsplash-scaled.jpg
END:VEVENT
END:VCALENDAR