
BEGIN:VCALENDAR
VERSION:2.0
PRODID:-//ECO Canada - ECPv6.15.20//NONSGML v1.0//EN
CALSCALE:GREGORIAN
METHOD:PUBLISH
X-ORIGINAL-URL:https://eco.ca
X-WR-CALDESC:Events for ECO Canada
REFRESH-INTERVAL;VALUE=DURATION:PT1H
X-Robots-Tag:noindex
X-PUBLISHED-TTL:PT1H
BEGIN:VTIMEZONE
TZID:America/Sao_Paulo
BEGIN:STANDARD
TZOFFSETFROM:-0300
TZOFFSETTO:-0300
TZNAME:-03
DTSTART:20230101T000000
END:STANDARD
END:VTIMEZONE
BEGIN:VTIMEZONE
TZID:America/Winnipeg
BEGIN:DAYLIGHT
TZOFFSETFROM:-0600
TZOFFSETTO:-0500
TZNAME:CDT
DTSTART:20230312T080000
END:DAYLIGHT
BEGIN:STANDARD
TZOFFSETFROM:-0500
TZOFFSETTO:-0600
TZNAME:CST
DTSTART:20231105T070000
END:STANDARD
BEGIN:DAYLIGHT
TZOFFSETFROM:-0600
TZOFFSETTO:-0500
TZNAME:CDT
DTSTART:20240310T080000
END:DAYLIGHT
BEGIN:STANDARD
TZOFFSETFROM:-0500
TZOFFSETTO:-0600
TZNAME:CST
DTSTART:20241103T070000
END:STANDARD
BEGIN:DAYLIGHT
TZOFFSETFROM:-0600
TZOFFSETTO:-0500
TZNAME:CDT
DTSTART:20250309T080000
END:DAYLIGHT
BEGIN:STANDARD
TZOFFSETFROM:-0500
TZOFFSETTO:-0600
TZNAME:CST
DTSTART:20251102T070000
END:STANDARD
END:VTIMEZONE
BEGIN:VEVENT
DTSTART;TZID=America/Sao_Paulo:20241114T170000
DTEND;TZID=America/Sao_Paulo:20241114T200000
DTSTAMP:20260423T083931
CREATED:20240829T043736Z
LAST-MODIFIED:20241024T155859Z
UID:10000182-1731603600-1731614400@eco.ca
SUMMARY:Environmental Professionals Meetup: Toronto\, ON
DESCRIPTION:Join ECO Canada and EP® Champion Andrew Richards at the free Environmental Professional Networking Event on November 14\, 2024\, at MaRS Innovation Centre! This is a fantastic opportunity for ECO Canada’s network of Environmental Professionals to gather in Toronto\, ON for an evening of connection and camaraderie. The only requirement? A passion for meeting new people! Enjoy a vibrant atmosphere\, delicious food\, and lively conversations with fellow professionals in the environmental sector. Make sure to register so we can prepare for this special event. \nAdmission prices vary:\n$10 entry fee for non-EP® members\nFree for EP® members
URL:https://eco.ca/event/environmental-professionals-meetup-toronto-on/
LOCATION:MaRS Innovation Centre\, 101 College Street Toronto\, Toronto\, ON\, M5G 1L7\, Canada
CATEGORIES:EP® Meet-up
ATTACH;FMTTYPE=image/png:https://eco.ca/wp-content/uploads/2024/08/EPChampion-Meetups_Eventbrite-Updated.png
END:VEVENT
BEGIN:VEVENT
DTSTART;TZID=America/Sao_Paulo:20241114T170000
DTEND;TZID=America/Sao_Paulo:20241114T200000
DTSTAMP:20260423T083931
CREATED:20240829T043736Z
LAST-MODIFIED:20240829T043736Z
UID:10000364-1731603600-1731614400@eco.ca
SUMMARY:Environmental Professionals Meetup: Toronto\, ON
DESCRIPTION:Join ECO Canada and EP® Champion Andrew Richards at the free Environmental Professional Networking Event on November 14\, 2024\, at MaRS Innovation Centre! This is a fantastic opportunity for ECO Canada’s network of Environmental Professionals to gather in Toronto\, ON for an evening of connection and camaraderie. The only requirement? A passion for meeting new people! Enjoy a vibrant atmosphere\, delicious food\, and lively conversations with fellow professionals in the environmental sector. Make sure to register so we can prepare for this special event. \nAdmission prices vary:\n$10 entry fee for non-EP® members\nFree for EP® members
URL:https://eco.ca/event/environmental-professionals-meetup-toronto-on-2/
LOCATION:MaRS Innovation Centre\, 101 College Street Toronto\, Toronto\, ON\, M5G 1L7\, Canada
CATEGORIES:EP® Meet-up
ATTACH;FMTTYPE=image/png:https://eco.ca/wp-content/uploads/2024/08/EPChampion-Meetups_Eventbrite-Updated.png
END:VEVENT
BEGIN:VEVENT
DTSTART;TZID=America/Winnipeg:20241114T170000
DTEND;TZID=America/Winnipeg:20241114T200000
DTSTAMP:20260423T083931
CREATED:20241010T172044Z
LAST-MODIFIED:20241028T153808Z
UID:10000200-1731603600-1731614400@eco.ca
SUMMARY:Environmental Professionals Meetup: Winnipeg\, MB
DESCRIPTION:Join ECO Canada and EP® Champion Devan Johnson and Meghan Ostrum at the free Environmental Professional Networking Event on November 14\, 2024\, at CN Campus! This is a fantastic opportunity for ECO Canada’s network of Environmental Professionals to gather in Winnipeg\, MB for an evening of connection and camaraderie. The only requirement? A passion for meeting new people! Enjoy a vibrant atmosphere\, delicious food\, and lively conversations with fellow professionals in the environmental sector. Make sure to register so we can prepare for this special event. \nAdmission prices vary:\n$10 entry fee for non-EP® members\nFree for EP® members
URL:https://eco.ca/event/environmental-professionals-meetup-winnipeg-mb-2/
LOCATION:CN Campus\, 650 Pandora Avenue East\, Winnipeg\, MB\, R2C 3A6
CATEGORIES:EP® Meet-up
ATTACH;FMTTYPE=image/png:https://eco.ca/wp-content/uploads/2024/08/EPChampion-Meetups_Eventbrite-Updated.png
END:VEVENT
BEGIN:VEVENT
DTSTART;TZID=America/Winnipeg:20241114T170000
DTEND;TZID=America/Winnipeg:20241114T200000
DTSTAMP:20260423T083931
CREATED:20241010T172044Z
LAST-MODIFIED:20241010T172044Z
UID:10000377-1731603600-1731614400@eco.ca
SUMMARY:Environmental Professionals Meetup: Winnipeg\, MB
DESCRIPTION:Join ECO Canada and EP® Champion Devan Johnson and Meghan Ostrum at the free Environmental Professional Networking Event on November 14\, 2024\, at CN Campus! This is a fantastic opportunity for ECO Canada’s network of Environmental Professionals to gather in Winnipeg\, MB for an evening of connection and camaraderie. The only requirement? A passion for meeting new people! Enjoy a vibrant atmosphere\, delicious food\, and lively conversations with fellow professionals in the environmental sector. Make sure to register so we can prepare for this special event. \nAdmission prices vary:\n$10 entry fee for non-EP® members\nFree for EP® members
URL:https://eco.ca/event/environmental-professionals-meetup-winnipeg-mb-2-2/
LOCATION:CN Campus\, 650 Pandora Avenue East\, Winnipeg\, MB\, R2C 3A6
CATEGORIES:EP® Meet-up
ATTACH;FMTTYPE=image/png:https://eco.ca/wp-content/uploads/2024/08/EPChampion-Meetups_Eventbrite-Updated.png
END:VEVENT
END:VCALENDAR