
BEGIN:VCALENDAR
VERSION:2.0
PRODID:-//ECO Canada - ECPv6.15.20//NONSGML v1.0//EN
CALSCALE:GREGORIAN
METHOD:PUBLISH
X-WR-CALNAME:ECO Canada
X-ORIGINAL-URL:https://eco.ca
X-WR-CALDESC:Events for ECO Canada
REFRESH-INTERVAL;VALUE=DURATION:PT1H
X-Robots-Tag:noindex
X-PUBLISHED-TTL:PT1H
BEGIN:VTIMEZONE
TZID:America/Edmonton
BEGIN:DAYLIGHT
TZOFFSETFROM:-0700
TZOFFSETTO:-0600
TZNAME:MDT
DTSTART:20230312T090000
END:DAYLIGHT
BEGIN:STANDARD
TZOFFSETFROM:-0600
TZOFFSETTO:-0700
TZNAME:MST
DTSTART:20231105T080000
END:STANDARD
BEGIN:DAYLIGHT
TZOFFSETFROM:-0700
TZOFFSETTO:-0600
TZNAME:MDT
DTSTART:20240310T090000
END:DAYLIGHT
BEGIN:STANDARD
TZOFFSETFROM:-0600
TZOFFSETTO:-0700
TZNAME:MST
DTSTART:20241103T080000
END:STANDARD
BEGIN:DAYLIGHT
TZOFFSETFROM:-0700
TZOFFSETTO:-0600
TZNAME:MDT
DTSTART:20250309T090000
END:DAYLIGHT
BEGIN:STANDARD
TZOFFSETFROM:-0600
TZOFFSETTO:-0700
TZNAME:MST
DTSTART:20251102T080000
END:STANDARD
END:VTIMEZONE
BEGIN:VEVENT
DTSTART;TZID=America/Edmonton:20241120T140000
DTEND;TZID=America/Edmonton:20241120T150000
DTSTAMP:20260423T175834
CREATED:20241016T202728Z
LAST-MODIFIED:20241017T142148Z
UID:10000201-1732111200-1732114800@eco.ca
SUMMARY:Zero Emission Vehicle (ZEV) Workshop: Calgary
DESCRIPTION:Join us in Calgary on November 20 from 2 PM to 3 PM MT for an informative and engaging workshop dedicated to exploring the transformative potential of Zero Emission Vehicles (ZEVs) in the Medium and Heavy-Duty Vehicle (MHDV) sector. Participate in interactive sessions and gain valuable insights into the future of zero-emission transport. \nHere’s What you can Expect: \n• Introduction to ZEVs: Understand what Zero Emission Vehicles are and their importance in today’s world. \n• Technological Advancements: Discover the latest in ZEV technology\, including solid-state and lithium iron phosphate batteries\, hydrogen fuel cells\, and wireless charging. \n• Community Impact: Explore the significant benefits of ZEVs on improved air quality\, lower operating costs\, and support for renewable energy with these communities. \n• Demonstrations: Use ECO’s ZEVAI Interactive Tool and view our MHDV Model. \n• Interactive Discussions: Discuss overcoming barriers to ZEV adoption\, enhancing community engagement\, and leveraging government incentives.
URL:https://eco.ca/event/zero-emission-vehicle-zev-workshop-calgary/
LOCATION:Suite 105\, Kahanoff Centre\, 105 12 Ave SE\, Calgary\, AB\, T2G 1A1\, Canada
CATEGORIES:Workshop
ATTACH;FMTTYPE=image/jpeg:https://eco.ca/wp-content/uploads/2024/10/ZEVAI-Workshop_Eventbrite-Calgary.jpg
END:VEVENT
BEGIN:VEVENT
DTSTART;TZID=America/Edmonton:20241120T140000
DTEND;TZID=America/Edmonton:20241120T150000
DTSTAMP:20260423T175834
CREATED:20241016T202728Z
LAST-MODIFIED:20241016T202728Z
UID:10000378-1732111200-1732114800@eco.ca
SUMMARY:Zero Emission Vehicle (ZEV) Workshop: Calgary
DESCRIPTION:Join us in Calgary on November 20 from 2 PM to 3 PM MT for an informative and engaging workshop dedicated to exploring the transformative potential of Zero Emission Vehicles (ZEVs) in the Medium and Heavy-Duty Vehicle (MHDV) sector. Participate in interactive sessions and gain valuable insights into the future of zero-emission transport. \nHere’s What you can Expect: \n• Introduction to ZEVs: Understand what Zero Emission Vehicles are and their importance in today’s world. \n• Technological Advancements: Discover the latest in ZEV technology\, including solid-state and lithium iron phosphate batteries\, hydrogen fuel cells\, and wireless charging. \n• Community Impact: Explore the significant benefits of ZEVs on improved air quality\, lower operating costs\, and support for renewable energy with these communities. \n• Demonstrations: Use ECO’s ZEVAI Interactive Tool and view our MHDV Model. \n• Interactive Discussions: Discuss overcoming barriers to ZEV adoption\, enhancing community engagement\, and leveraging government incentives. \n  \nSpeaker: Erin Horb\nHydrogen Specialist | Clean Technology Advisor | Emissions Scientist\n \n  \nErin Horb is an atmospheric scientist by training and has widespread experience working on air and climate issues with multi-disciplinary teams\, collaborative working groups and diverse partners. She currently works as a Technology Advisor & Hydrogen Specialist at the Alberta Motor Transport Association (AMTA)\, where she is part of a small\, solutions-oriented Research & Innovation team. This team is actively convening project partners and funders to explore the use of alternative fuels\, including hydrogen\, in commercial transportation in Alberta. \n  \nSpeaker: Perry Toms\nFounder and Managing Director\, 20GS Low Carbon Consulting & Advisory\n \n  \nWith over four decades of experience\, Perry has been a pivotal figure in the commercialization of clean-tech companies and the development of ultra-low carbon projects\, spanning renewable energy\, liquid transport fuels\, waste valorization\, and sustainable infrastructure. Since the early 1990s\, he has founded multiple sustainable energy ventures and collaborated closely with the finance sector on both private and public equity raises. In 2022\, he launched 20GS – Low Carbon Consulting & Advisory\, aiming to leverage his extensive expertise to support international clients in the energy transition. Perry has held senior roles in both conventional and renewable energy sectors\, including leadership at Novera Energy\, ABG Biodiesel\, and Licella Holdings. His work in North America and Europe includes pioneering advanced biofuels through ventures like Steeper Energy\, focused on converting biomass to low-carbon fuels\, and he has led numerous groundbreaking projects globally in renewable energy\, waste management\, and carbon sequestration. \n 
URL:https://eco.ca/event/zero-emission-vehicle-zev-workshop-calgary-2/
LOCATION:Suite 105\, Kahanoff Centre\, 105 12 Ave SE\, Calgary\, AB\, T2G 1A1\, Canada
CATEGORIES:Workshop
ATTACH;FMTTYPE=image/jpeg:https://eco.ca/wp-content/uploads/2024/10/ZEVAI-Workshop_Eventbrite-Calgary.jpg
END:VEVENT
END:VCALENDAR