
BEGIN:VCALENDAR
VERSION:2.0
PRODID:-//ECO Canada - ECPv6.15.20//NONSGML v1.0//EN
CALSCALE:GREGORIAN
METHOD:PUBLISH
X-WR-CALNAME:ECO Canada
X-ORIGINAL-URL:https://eco.ca
X-WR-CALDESC:Events for ECO Canada
REFRESH-INTERVAL;VALUE=DURATION:PT1H
X-Robots-Tag:noindex
X-PUBLISHED-TTL:PT1H
BEGIN:VTIMEZONE
TZID:UTC
BEGIN:STANDARD
TZOFFSETFROM:+0000
TZOFFSETTO:+0000
TZNAME:UTC
DTSTART:20240101T000000
END:STANDARD
END:VTIMEZONE
BEGIN:VTIMEZONE
TZID:America/Edmonton
BEGIN:DAYLIGHT
TZOFFSETFROM:-0700
TZOFFSETTO:-0600
TZNAME:MDT
DTSTART:20240310T090000
END:DAYLIGHT
BEGIN:STANDARD
TZOFFSETFROM:-0600
TZOFFSETTO:-0700
TZNAME:MST
DTSTART:20241103T080000
END:STANDARD
BEGIN:DAYLIGHT
TZOFFSETFROM:-0700
TZOFFSETTO:-0600
TZNAME:MDT
DTSTART:20250309T090000
END:DAYLIGHT
BEGIN:STANDARD
TZOFFSETFROM:-0600
TZOFFSETTO:-0700
TZNAME:MST
DTSTART:20251102T080000
END:STANDARD
BEGIN:DAYLIGHT
TZOFFSETFROM:-0700
TZOFFSETTO:-0600
TZNAME:MDT
DTSTART:20260308T090000
END:DAYLIGHT
BEGIN:STANDARD
TZOFFSETFROM:-0600
TZOFFSETTO:-0700
TZNAME:MST
DTSTART:20261101T080000
END:STANDARD
END:VTIMEZONE
BEGIN:VEVENT
DTSTART;TZID=UTC:20250327T083000
DTEND;TZID=UTC:20250327T180000
DTSTAMP:20260423T051403
CREATED:20250319T170959Z
LAST-MODIFIED:20250320T231405Z
UID:10000409-1743064200-1743098400@eco.ca
SUMMARY:Camps d'entraînement carboneutralité: Québec\, QC
DESCRIPTION:Participez à l’atelier intensif sur la carboneutralité d’ECO Canada pour lancer votre carrière dans le secteur environnemental!\nLe Canada aura besoin de plus de 40 000 nouveaux professionnel·les de l’environnement chaque année pour répondre à la demande au cours de la prochaine décennie\, et vous pourriez en faire partie. \nCet atelier intensif sur la carboneutralité vise à aider les étudiant·es de niveau post-secondaire de toutes disciplines à trouver des emplois épanouissants liés à la carboneutralité. Au cours de cette journée\, qui comprendra des présentations et discussions avec des expert·es de la carboneutralité\, vous acquerrez les connaissances de base sur la réduction des émissions de gaz à effet de serre et la carboneutralité\, des compétences pratiques et l’opportunité de réseauter avec des membres de secteurs variés afin d’augmenter votre employabilité dans le secteur environnemental. \nL’événement sera intégralement en français\, vous aurez accès à un manuel ainsi qu’aux contenu des présentations à l’issue de l’évènement. En outre\, vous bénéficierez de plusieurs récompenses pour avoir complété votre participation qui faciliterons votre recherche d’emploi : \n\nCertificat de participation\n20 % de réduction (si éligible) sur le titre professionnel Étudiant EPt\n(Professionnel de l’environnemental en formation). Vous pouvez en savoir plus sur le programme Étudiant EPt ici: Étudiant EPt | ECO Canada\nEt en bonus\, une carte-cadeau de 20 $ pour la réponse à notre enquête de satisfaction\, ainsi que la chance de participer à un tirage au sort pour gagner un sac-cadeau ECO Canada\n\nLe déjeuner\, dîner et rafraîchissement au cours du cocktail de réseautage qui suivra l’évènement seront offert\, avec des options végétaliennes ou sans\ngluten. \nDate et heure: \nJeudi 27 mars 2025\, de 8h30 à 18h \nPourquoi participer? \n\nAcquérez des connaissances et compétences essentielles sur les gaz à effet de serre\, la mise en place de la carboneutralité\, les technologies émergentes\, les tendances dans divers secteurs et bien plus encore.\n\n\nÉchangez avec des professionnels de diverses industries et d’autres étudiant·es intéressé·es par les carrières dans la carboneutralité.\n\n\nProfitez d’opportunité de réseautage et apprenez en plus sur les ressources disponibles pour augmenter votre employabilité dans le secteur environnemental.\n\nÀ qui cet atelier s’adresse-t-il? \nNous accueillons les étudiant·es de toutes disciplines et années d’études à cet atelier\, il n’est pas nécessaire de suivre des études dans le secteur environnemental. Cependant\, pour être éligible\, vous devez : \n\nÊtre inscrit·e dans un établissement postsecondaire canadien en de mars 2025\n\n\nÊtre inscrit·e dans un programme de diplôme\, de certificat ou de baccalauréat.\n\nCet atelier constitue la seconde partie d’un évènement s’étalant sur deux jours et visant à offrir aux étudiant·es une opportunité d’apprentissage holistique\, combinant les connaissances théoriques avec des applications pratiques et des rencontres avec des professionnels. La première partie aura lieu le mercredi 26 mars 2025 et consiste en un hackathon s’adressant aux étudiant·es dans les domaines de l’intelligence artificielle\, l’environnement\, la gestion de projet et les technologies de l’information. Vous trouverez les détails sur la page de l’évènement. Veuillez noter qu’il n’est pas nécessaire de participer au hackathon le 26 pour pouvoir assister à l’atelier intensif le 27. Le hackathon vous est offert par notre partenaire Québec International. \nCe projet a été rendu possible grâce au financement de La Table ronde des affaires + de l’enseignement supérieur\, avec le soutien du gouvernement du Canada.
URL:https://eco.ca/event/camps-dentrainement-carboneutralite-quebec-qc/
LOCATION:Institut National de la Recherche Scientifique\, 490 Rue de la Couronne\, Québec\, QC\, G1K 9A9\, Canada
CATEGORIES:Workshop
ATTACH;FMTTYPE=image/png:https://eco.ca/wp-content/uploads/2025/03/NZ_Quebec-City-Eventbrite.png
END:VEVENT
BEGIN:VEVENT
DTSTART;TZID=America/Edmonton:20250327T110000
DTEND;TZID=America/Edmonton:20250327T120000
DTSTAMP:20260423T051403
CREATED:20250304T160944Z
LAST-MODIFIED:20250320T231402Z
UID:10000404-1743073200-1743076800@eco.ca
SUMMARY:Moteur du leadership: le pouvoir du mentorat et de stratégies d'embauche favorables à la rétention et au développement personnel
DESCRIPTION:Dans le paysage actuel en évolution rapide\, le développement efficace du leadership est la clé du succès organisationnel. Rejoignez-nous pour un webinaire engageant au cours duquel nous explorons le rôle transformateur du mentorat de qualité dans l’avancement de personnel vers des rôles de leadership. Organisée par Mentor Canada\, cette séance explorera comment des pratiques de mentorat de qualité peuvent vous aider à cultiver le potentiel de leadership au sein de votre équipe\, à générer des résultats positifs et à améliorer l’expérience d’employé. \nRejoignez-nous le jeudi 27 mars 2025\, de 11h00 à 12h00 MDT
URL:https://eco.ca/event/moteur-du-leadership-le-pouvoir-du-mentorat-et-de-strategies-dembauche-favorables-a-la-retention-et-au-developpement-personnel/
LOCATION:Online
CATEGORIES:Webinars
ATTACH;FMTTYPE=image/png:https://eco.ca/wp-content/uploads/2025/03/wage_Banner-FR.png
END:VEVENT
END:VCALENDAR