
BEGIN:VCALENDAR
VERSION:2.0
PRODID:-//ECO Canada - ECPv6.15.20//NONSGML v1.0//EN
CALSCALE:GREGORIAN
METHOD:PUBLISH
X-ORIGINAL-URL:https://eco.ca
X-WR-CALDESC:Events for ECO Canada
REFRESH-INTERVAL;VALUE=DURATION:PT1H
X-Robots-Tag:noindex
X-PUBLISHED-TTL:PT1H
BEGIN:VTIMEZONE
TZID:America/Halifax
BEGIN:DAYLIGHT
TZOFFSETFROM:-0400
TZOFFSETTO:-0300
TZNAME:ADT
DTSTART:20250309T060000
END:DAYLIGHT
BEGIN:STANDARD
TZOFFSETFROM:-0300
TZOFFSETTO:-0400
TZNAME:AST
DTSTART:20251102T050000
END:STANDARD
BEGIN:DAYLIGHT
TZOFFSETFROM:-0400
TZOFFSETTO:-0300
TZNAME:ADT
DTSTART:20260308T060000
END:DAYLIGHT
BEGIN:STANDARD
TZOFFSETFROM:-0300
TZOFFSETTO:-0400
TZNAME:AST
DTSTART:20261101T050000
END:STANDARD
BEGIN:DAYLIGHT
TZOFFSETFROM:-0400
TZOFFSETTO:-0300
TZNAME:ADT
DTSTART:20270314T060000
END:DAYLIGHT
BEGIN:STANDARD
TZOFFSETFROM:-0300
TZOFFSETTO:-0400
TZNAME:AST
DTSTART:20271107T050000
END:STANDARD
END:VTIMEZONE
BEGIN:VEVENT
DTSTART;TZID=America/Halifax:20260508T090000
DTEND;TZID=America/Halifax:20260508T160000
DTSTAMP:20260419T104526
CREATED:20260331T155613Z
LAST-MODIFIED:20260414T160324Z
UID:10000707-1778230800-1778256000@eco.ca
SUMMARY:Halifax EP Chapter: Innovation in Sustainable Natural Resource Development
DESCRIPTION:This event brings together professionals\, researchers\, and industry leaders to explore how emerging technologies and innovative practices are shaping the future of the natural resources and energy sectors. Through a series of knowledge sharing presentations and a panel discussion\, participants will gain insight into technological advances in the biophysical space\, major energy transformation projects in Atlantic Canada\, and the tools and technologies being applied in real-world settings. \nDesigned to spark conversation and collaboration\, the day will also feature dedicated networking opportunities to connect with peers\, experts\, and organizations working across the natural resources landscape. \nWho is this for?\nEnvironmental professionals in Halifax \nDetails\nCoffee\, snacks and lunch will be provided.
URL:https://eco.ca/event/halifax-ep-chapter-innovation-in-sustainable-natural-resource-development/
LOCATION:Fairbanks Interpretive Center\, 54 Locks Road\, Dartmouth\, NS\, B2X 2W7\, Canada
CATEGORIES:EP® Meet-up,Workshop
ATTACH;FMTTYPE=image/jpeg:https://eco.ca/wp-content/uploads/2026/03/https___cdn.evbuc_.com_images_1179979469_66891460325_1_original.jpg
END:VEVENT
END:VCALENDAR