
BEGIN:VCALENDAR
VERSION:2.0
PRODID:-//ECO Canada - ECPv6.15.20//NONSGML v1.0//EN
CALSCALE:GREGORIAN
METHOD:PUBLISH
X-ORIGINAL-URL:https://eco.ca
X-WR-CALDESC:Events for ECO Canada
REFRESH-INTERVAL;VALUE=DURATION:PT1H
X-Robots-Tag:noindex
X-PUBLISHED-TTL:PT1H
BEGIN:VTIMEZONE
TZID:America/Edmonton
BEGIN:DAYLIGHT
TZOFFSETFROM:-0700
TZOFFSETTO:-0600
TZNAME:MDT
DTSTART:20220313T090000
END:DAYLIGHT
BEGIN:STANDARD
TZOFFSETFROM:-0600
TZOFFSETTO:-0700
TZNAME:MST
DTSTART:20221106T080000
END:STANDARD
BEGIN:DAYLIGHT
TZOFFSETFROM:-0700
TZOFFSETTO:-0600
TZNAME:MDT
DTSTART:20230312T090000
END:DAYLIGHT
BEGIN:STANDARD
TZOFFSETFROM:-0600
TZOFFSETTO:-0700
TZNAME:MST
DTSTART:20231105T080000
END:STANDARD
BEGIN:DAYLIGHT
TZOFFSETFROM:-0700
TZOFFSETTO:-0600
TZNAME:MDT
DTSTART:20240310T090000
END:DAYLIGHT
BEGIN:STANDARD
TZOFFSETFROM:-0600
TZOFFSETTO:-0700
TZNAME:MST
DTSTART:20241103T080000
END:STANDARD
END:VTIMEZONE
BEGIN:VTIMEZONE
TZID:America/Toronto
BEGIN:DAYLIGHT
TZOFFSETFROM:-0500
TZOFFSETTO:-0400
TZNAME:EDT
DTSTART:20220313T070000
END:DAYLIGHT
BEGIN:STANDARD
TZOFFSETFROM:-0400
TZOFFSETTO:-0500
TZNAME:EST
DTSTART:20221106T060000
END:STANDARD
BEGIN:DAYLIGHT
TZOFFSETFROM:-0500
TZOFFSETTO:-0400
TZNAME:EDT
DTSTART:20230312T070000
END:DAYLIGHT
BEGIN:STANDARD
TZOFFSETFROM:-0400
TZOFFSETTO:-0500
TZNAME:EST
DTSTART:20231105T060000
END:STANDARD
BEGIN:DAYLIGHT
TZOFFSETFROM:-0500
TZOFFSETTO:-0400
TZNAME:EDT
DTSTART:20240310T070000
END:DAYLIGHT
BEGIN:STANDARD
TZOFFSETFROM:-0400
TZOFFSETTO:-0500
TZNAME:EST
DTSTART:20241103T060000
END:STANDARD
END:VTIMEZONE
BEGIN:VEVENT
DTSTART;VALUE=DATE:20230404
DTEND;VALUE=DATE:20230406
DTSTAMP:20260420T102222
CREATED:20230302T173258Z
LAST-MODIFIED:20230302T173258Z
UID:10000021-1680566400-1680739199@eco.ca
SUMMARY:CanREA Operations Summit 2023
DESCRIPTION:What is essential to the Canadian renewable energy industry? The installed assets that generate and store clean electricity\, and the individuals who build\, operate\, and maintain them. This specialized community comes together each year to talk shop at the CanREA Operations Summit. Join Canadian Renewable Energy Association on April 4-5th\, 2023\, for unmatched learning opportunities and connection points with your community.
URL:https://eco.ca/event/canrea-operations-summit-2023/
LOCATION:Delta Hotels by Marriott Toronto Airport & Conference Centre\, Dixon Road 655\, Toronto\, Ontario\, M9W 1J3\, Canada
CATEGORIES:Conference
ATTACH;FMTTYPE=image/png:https://eco.ca/wp-content/uploads/2025/08/ECO-thumbnail-for-links-1-scaled.png
END:VEVENT
BEGIN:VEVENT
DTSTART;VALUE=DATE:20230404
DTEND;VALUE=DATE:20230406
DTSTAMP:20260420T102222
CREATED:20230302T173258Z
LAST-MODIFIED:20230302T173258Z
UID:10000230-1680566400-1680739199@eco.ca
SUMMARY:CanREA Operations Summit 2023
DESCRIPTION:What is essential to the Canadian renewable energy industry? The installed assets that generate and store clean electricity\, and the individuals who build\, operate\, and maintain them. This specialized community comes together each year to talk shop at the CanREA Operations Summit. Join Canadian Renewable Energy Association on April 4-5th\, 2023\, for unmatched learning opportunities and connection points with your community.
URL:https://eco.ca/event/canrea-operations-summit-2023-2/
LOCATION:Delta Hotels by Marriott Toronto Airport & Conference Centre\, Dixon Road 655\, Toronto\, Ontario\, M9W 1J3\, Canada
CATEGORIES:Conference
ATTACH;FMTTYPE=image/png:https://eco.ca/wp-content/uploads/2025/08/ECO-thumbnail-for-links-1-scaled.png
END:VEVENT
BEGIN:VEVENT
DTSTART;VALUE=DATE:20230406
DTEND;VALUE=DATE:20230407
DTSTAMP:20260420T102222
CREATED:20230302T173257Z
LAST-MODIFIED:20230302T173257Z
UID:10000206-1680739200-1680825599@eco.ca
SUMMARY:Workforce Forward 2023
DESCRIPTION:Workforce Forward brings together a diverse group of thought-leaders to share their work in the inclusion and diversity space\, as well as discuss what steps we all can take to become even greater allies and facilitate lasting change. Learn how to propel your workplace culture to one that puts Indigenous inclusion first!
URL:https://eco.ca/event/workforce-forward-2023-calgary-2/
LOCATION:The Westin Calgary\, 320 4 Ave SW\, Calgary\, Alberta\, T2P 2S6\, Canada
CATEGORIES:Conference
ATTACH;FMTTYPE=image/png:https://eco.ca/wp-content/uploads/2025/08/ECO-thumbnail-for-links-1-scaled.png
END:VEVENT
BEGIN:VEVENT
DTSTART;VALUE=DATE:20230406
DTEND;VALUE=DATE:20230407
DTSTAMP:20260420T102222
CREATED:20230302T173257Z
LAST-MODIFIED:20230302T173257Z
UID:10000009-1680739200-1680825599@eco.ca
SUMMARY:Workforce Forward 2023
DESCRIPTION:Workforce Forward brings together a diverse group of thought-leaders to share their work in the inclusion and diversity space\, as well as discuss what steps we all can take to become even greater allies and facilitate lasting change. Learn how to propel your workplace culture to one that puts Indigenous inclusion first!
URL:https://eco.ca/event/workforce-forward-2023-calgary/
LOCATION:The Westin Calgary\, 320 4 Ave SW\, Calgary\, Alberta\, T2P 2S6\, Canada
CATEGORIES:Conference
ATTACH;FMTTYPE=image/png:https://eco.ca/wp-content/uploads/2025/08/ECO-thumbnail-for-links-1-scaled.png
END:VEVENT
BEGIN:VEVENT
DTSTART;VALUE=DATE:20230423
DTEND;VALUE=DATE:20230426
DTSTAMP:20260420T102222
CREATED:20230302T173255Z
LAST-MODIFIED:20230302T173255Z
UID:10000018-1682208000-1682467199@eco.ca
SUMMARY:World Congress 2023-COLLECTIVE INTELLIGENCE
DESCRIPTION:Knowing how to use and leverage all forms of intelligence is essential to the development of both individuals and societies\, including social\, cultural\, political\, environmental\, emotional and artificial intelligence. Collective Intelligence is required to ensure a holistic and creative approach to meet the needs of a diverse student population from various pathways and the needs of the labour market in constant evolution. \nOver 1500 participants will gather to reflect\, discuss\, share and network\, all aiming to better advocate\, build capacity and drive knowledge to address issues and explore innovative solutions for the post-secondary professional and technical and vocational education and training (TVET) sector\, in Canada and around the world.
URL:https://eco.ca/event/world-congress-2023-collective-intelligence/
LOCATION:Palais des congrès de Montréal\, 159 Saint-Antoine Rue O\, Montreal\, Quebec\, H2Z 1H2\, Canada
CATEGORIES:Conference
ATTACH;FMTTYPE=image/png:https://eco.ca/wp-content/uploads/2025/08/ECO-thumbnail-for-links-1-scaled.png
END:VEVENT
BEGIN:VEVENT
DTSTART;VALUE=DATE:20230423
DTEND;VALUE=DATE:20230426
DTSTAMP:20260420T102222
CREATED:20230302T173255Z
LAST-MODIFIED:20230302T173255Z
UID:10000213-1682208000-1682467199@eco.ca
SUMMARY:World Congress 2023-COLLECTIVE INTELLIGENCE
DESCRIPTION:Knowing how to use and leverage all forms of intelligence is essential to the development of both individuals and societies\, including social\, cultural\, political\, environmental\, emotional and artificial intelligence. Collective Intelligence is required to ensure a holistic and creative approach to meet the needs of a diverse student population from various pathways and the needs of the labour market in constant evolution. \nOver 1500 participants will gather to reflect\, discuss\, share and network\, all aiming to better advocate\, build capacity and drive knowledge to address issues and explore innovative solutions for the post-secondary professional and technical and vocational education and training (TVET) sector\, in Canada and around the world.
URL:https://eco.ca/event/world-congress-2023-collective-intelligence-2/
LOCATION:Palais des congrès de Montréal\, 159 Saint-Antoine Rue O\, Montreal\, Quebec\, H2Z 1H2\, Canada
CATEGORIES:Conference
ATTACH;FMTTYPE=image/png:https://eco.ca/wp-content/uploads/2025/08/ECO-thumbnail-for-links-1-scaled.png
END:VEVENT
END:VCALENDAR