
BEGIN:VCALENDAR
VERSION:2.0
PRODID:-//ECO Canada - ECPv6.15.20//NONSGML v1.0//EN
CALSCALE:GREGORIAN
METHOD:PUBLISH
X-WR-CALNAME:ECO Canada
X-ORIGINAL-URL:https://eco.ca
X-WR-CALDESC:Events for ECO Canada
REFRESH-INTERVAL;VALUE=DURATION:PT1H
X-Robots-Tag:noindex
X-PUBLISHED-TTL:PT1H
BEGIN:VTIMEZONE
TZID:America/Edmonton
BEGIN:DAYLIGHT
TZOFFSETFROM:-0700
TZOFFSETTO:-0600
TZNAME:MDT
DTSTART:20240310T090000
END:DAYLIGHT
BEGIN:STANDARD
TZOFFSETFROM:-0600
TZOFFSETTO:-0700
TZNAME:MST
DTSTART:20241103T080000
END:STANDARD
BEGIN:DAYLIGHT
TZOFFSETFROM:-0700
TZOFFSETTO:-0600
TZNAME:MDT
DTSTART:20250309T090000
END:DAYLIGHT
BEGIN:STANDARD
TZOFFSETFROM:-0600
TZOFFSETTO:-0700
TZNAME:MST
DTSTART:20251102T080000
END:STANDARD
BEGIN:DAYLIGHT
TZOFFSETFROM:-0700
TZOFFSETTO:-0600
TZNAME:MDT
DTSTART:20260308T090000
END:DAYLIGHT
BEGIN:STANDARD
TZOFFSETFROM:-0600
TZOFFSETTO:-0700
TZNAME:MST
DTSTART:20261101T080000
END:STANDARD
END:VTIMEZONE
BEGIN:VEVENT
DTSTART;VALUE=DATE:20250217
DTEND;VALUE=DATE:20250220
DTSTAMP:20260419T160623
CREATED:20250128T170330Z
LAST-MODIFIED:20250128T170330Z
UID:10000397-1739750400-1740009599@eco.ca
SUMMARY:3rd Global Tourism Resilience Day Conference and Expo
DESCRIPTION:Join us as we host the 2nd Day of the 3rd Global Tourism Resilience Day Conference and Expo in Hanover\, Jamaica\, from February 17 to 19\, 2025. During this session\, we’ll speak with global leaders to explore innovative solutions for coastal tourism resilience through digital technologies. \nHighlights include discussions on sustainable practices\, digital transformation\, and an anticipated address from the UN Secretary-General. \nLearn more about sponsorship opportunities by clicking here
URL:https://eco.ca/event/3rd-global-tourism-resilience-day-conference-and-expo/
LOCATION:Nova Scotia
CATEGORIES:Conference
ATTACH;FMTTYPE=image/jpeg:https://eco.ca/wp-content/uploads/2025/01/AdobeStock_226716514-1-scaled.jpeg
END:VEVENT
END:VCALENDAR