
BEGIN:VCALENDAR
VERSION:2.0
PRODID:-//ECO Canada - ECPv6.15.20//NONSGML v1.0//EN
CALSCALE:GREGORIAN
METHOD:PUBLISH
X-WR-CALNAME:ECO Canada
X-ORIGINAL-URL:https://eco.ca
X-WR-CALDESC:Events for ECO Canada
REFRESH-INTERVAL;VALUE=DURATION:PT1H
X-Robots-Tag:noindex
X-PUBLISHED-TTL:PT1H
BEGIN:VTIMEZONE
TZID:America/Vancouver
BEGIN:DAYLIGHT
TZOFFSETFROM:-0800
TZOFFSETTO:-0700
TZNAME:PDT
DTSTART:20220313T100000
END:DAYLIGHT
BEGIN:STANDARD
TZOFFSETFROM:-0700
TZOFFSETTO:-0800
TZNAME:PST
DTSTART:20221106T090000
END:STANDARD
BEGIN:DAYLIGHT
TZOFFSETFROM:-0800
TZOFFSETTO:-0700
TZNAME:PDT
DTSTART:20230312T100000
END:DAYLIGHT
BEGIN:STANDARD
TZOFFSETFROM:-0700
TZOFFSETTO:-0800
TZNAME:PST
DTSTART:20231105T090000
END:STANDARD
BEGIN:DAYLIGHT
TZOFFSETFROM:-0800
TZOFFSETTO:-0700
TZNAME:PDT
DTSTART:20240310T100000
END:DAYLIGHT
BEGIN:STANDARD
TZOFFSETFROM:-0700
TZOFFSETTO:-0800
TZNAME:PST
DTSTART:20241103T090000
END:STANDARD
END:VTIMEZONE
BEGIN:VEVENT
DTSTART;TZID=America/Vancouver:20230607T173000
DTEND;TZID=America/Vancouver:20230607T200000
DTSTAMP:20260421T221113
CREATED:20230510T202010Z
LAST-MODIFIED:20230510T202010Z
UID:10000244-1686159000-1686168000@eco.ca
SUMMARY:Environmental Professionals Meet-up: Vancouver
DESCRIPTION:Join ECO Canada’s FREE Environmental Professional Meet Up on June 7\, 2023 at JOEY Burrard in Vancouver. Connect with fellow environmental professionals\, enjoy a great venue\, food\, and networking. Register to secure your spot at this unique event.
URL:https://eco.ca/event/environmental-professionals-meet-up-vancouver-2/
LOCATION:JOEY Burrard\, 820 Burrard Street\, Vancouver\, British Columbia\, V6Z 1X9\, Canada
CATEGORIES:EP® Meet-up
ATTACH;FMTTYPE=image/png:https://eco.ca/wp-content/uploads/2025/08/ECO-thumbnail-for-links-1-scaled.png
END:VEVENT
BEGIN:VEVENT
DTSTART;TZID=America/Vancouver:20230607T173000
DTEND;TZID=America/Vancouver:20230607T200000
DTSTAMP:20260421T221113
CREATED:20230510T202010Z
LAST-MODIFIED:20230510T203252Z
UID:10000036-1686159000-1686168000@eco.ca
SUMMARY:Environmental Professionals Meet-up: Vancouver
DESCRIPTION:Join ECO Canada’s FREE Environmental Professional Meet Up on June 7\, 2023 at JOEY Burrard in Vancouver. Connect with fellow environmental professionals\, enjoy a great venue\, food\, and networking. Register to secure your spot at this unique event.
URL:https://eco.ca/event/environmental-professionals-meet-up-vancouver/
LOCATION:JOEY Burrard\, 820 Burrard Street\, Vancouver\, British Columbia\, V6Z 1X9\, Canada
CATEGORIES:EP® Meet-up
ATTACH;FMTTYPE=image/png:https://eco.ca/wp-content/uploads/2025/08/ECO-thumbnail-for-links-1-scaled.png
END:VEVENT
END:VCALENDAR