
BEGIN:VCALENDAR
VERSION:2.0
PRODID:-//ECO Canada - ECPv6.15.20//NONSGML v1.0//EN
CALSCALE:GREGORIAN
METHOD:PUBLISH
X-WR-CALNAME:ECO Canada
X-ORIGINAL-URL:https://eco.ca
X-WR-CALDESC:Events for ECO Canada
REFRESH-INTERVAL;VALUE=DURATION:PT1H
X-Robots-Tag:noindex
X-PUBLISHED-TTL:PT1H
BEGIN:VTIMEZONE
TZID:America/Edmonton
BEGIN:DAYLIGHT
TZOFFSETFROM:-0700
TZOFFSETTO:-0600
TZNAME:MDT
DTSTART:20230312T090000
END:DAYLIGHT
BEGIN:STANDARD
TZOFFSETFROM:-0600
TZOFFSETTO:-0700
TZNAME:MST
DTSTART:20231105T080000
END:STANDARD
BEGIN:DAYLIGHT
TZOFFSETFROM:-0700
TZOFFSETTO:-0600
TZNAME:MDT
DTSTART:20240310T090000
END:DAYLIGHT
BEGIN:STANDARD
TZOFFSETFROM:-0600
TZOFFSETTO:-0700
TZNAME:MST
DTSTART:20241103T080000
END:STANDARD
BEGIN:DAYLIGHT
TZOFFSETFROM:-0700
TZOFFSETTO:-0600
TZNAME:MDT
DTSTART:20250309T090000
END:DAYLIGHT
BEGIN:STANDARD
TZOFFSETFROM:-0600
TZOFFSETTO:-0700
TZNAME:MST
DTSTART:20251102T080000
END:STANDARD
END:VTIMEZONE
BEGIN:VEVENT
DTSTART;VALUE=DATE:20240412
DTEND;VALUE=DATE:20240413
DTSTAMP:20260422T193254
CREATED:20240410T140229Z
LAST-MODIFIED:20240410T140229Z
UID:10000126-1712880000-1712966399@eco.ca
SUMMARY:MagnetAI Bootcamp Webinar
DESCRIPTION:Join Magnet and ECO Canada on April 12th for the next webinar in the MagnetAI Bootcamp series. Kevin Nilsen\, ECO Canada’s President and CEO\, along with Magnet’s Executive Director Mark Patterson\, will discuss how generative AI can transform critical industries like Canada’s environmental sector. The conversation will discuss hands-on use cases and provide tips and guidance for participants to understand better and use generative AI. Mark Patterson will also discuss the importance of building generative AI skills and connect participants with rapid training to support them in taking advantage of these powerful new tools in the workplace. \nThe webinar starts at 10:00 AM MT.
URL:https://eco.ca/event/magnetai-bootcamp-webinar/
LOCATION:Online
CATEGORIES:Webinars
ATTACH;FMTTYPE=image/jpeg:https://eco.ca/wp-content/uploads/2024/04/MAGNET-EC-640x200_mar28_24.jpg
END:VEVENT
BEGIN:VEVENT
DTSTART;VALUE=DATE:20240412
DTEND;VALUE=DATE:20240413
DTSTAMP:20260422T193254
CREATED:20240410T140229Z
LAST-MODIFIED:20240410T140229Z
UID:10000318-1712880000-1712966399@eco.ca
SUMMARY:MagnetAI Bootcamp Webinar
DESCRIPTION:Join Magnet and ECO Canada on April 12th for the next webinar in the MagnetAI Bootcamp series. Kevin Nilsen\, ECO Canada’s President and CEO\, along with Magnet’s Executive Director Mark Patterson\, will discuss how generative AI can transform critical industries like Canada’s environmental sector. The conversation will discuss hands-on use cases and provide tips and guidance for participants to understand better and use generative AI. Mark Patterson will also discuss the importance of building generative AI skills and connect participants with rapid training to support them in taking advantage of these powerful new tools in the workplace. \nThe webinar starts at 10:00 AM MT.
URL:https://eco.ca/event/magnetai-bootcamp-webinar-2/
LOCATION:Online
CATEGORIES:Webinars
ATTACH;FMTTYPE=image/jpeg:https://eco.ca/wp-content/uploads/2024/04/MAGNET-EC-640x200_mar28_24.jpg
END:VEVENT
BEGIN:VEVENT
DTSTART;TZID=America/Edmonton:20240430T101500
DTEND;TZID=America/Edmonton:20240430T113000
DTSTAMP:20260422T193254
CREATED:20240410T140708Z
LAST-MODIFIED:20240527T170731Z
UID:10000127-1714472100-1714476600@eco.ca
SUMMARY:Green Horizons: The Future of Environmental Careers in Canada (Webinar)
DESCRIPTION:Sign up now to view this webinar’s recording! \nEnvironmental workers are found in various industries and occupations throughout Canada. Join us in this webinar as we delve into ECO Canada’s newest projections for environmental employment and hiring trends for the upcoming decade. Tune in with Geni Peters to learn more!
URL:https://eco.ca/event/green-horizons-the-future-of-environmental-careers-in-canada/
LOCATION:Online
CATEGORIES:Webinars
ATTACH;FMTTYPE=image/jpeg:https://eco.ca/wp-content/uploads/engineers-standing-on-wind-farm-making-notes-95L5C7H.jpg
END:VEVENT
BEGIN:VEVENT
DTSTART;TZID=America/Edmonton:20240430T101500
DTEND;TZID=America/Edmonton:20240430T113000
DTSTAMP:20260422T193254
CREATED:20240410T140708Z
LAST-MODIFIED:20240410T140708Z
UID:10000319-1714472100-1714476600@eco.ca
SUMMARY:Green Horizons: The Future of Environmental Careers in Canada (Webinar)
DESCRIPTION:Sign up now to view this webinar’s recording! \nEnvironmental workers are found in various industries and occupations throughout Canada. Join us in this webinar as we delve into ECO Canada’s newest projections for environmental employment and hiring trends for the upcoming decade. Tune in with Geni Peters to learn more!
URL:https://eco.ca/event/green-horizons-the-future-of-environmental-careers-in-canada-2/
LOCATION:Online
CATEGORIES:Webinars
ATTACH;FMTTYPE=image/jpeg:https://eco.ca/wp-content/uploads/engineers-standing-on-wind-farm-making-notes-95L5C7H.jpg
END:VEVENT
END:VCALENDAR